BEGIN:VCALENDAR
VERSION:2.0
PRODID:-//wp-events-plugin.com//7.0.5//EN
TZID:America/Denver
X-WR-TIMEZONE:America/Denver
BEGIN:VEVENT
UID:12@worshipperwarrior.org
DTSTART;TZID=America/Denver:20180428T180000
DTEND;TZID=America/Denver:20180428T180000
DTSTAMP:20180413T184442Z
URL:https://worshipperwarrior.org/events-past/the-heart-of-man/
SUMMARY:The Heart of Man
DESCRIPTION:“Welcome to the room of Grace. The Heart of Man film experien
 ce reminds us all that Shame no longer holds us hostage and we are all fre
 e to pursue life more fully. No matter where you are on your journey\, we 
 want to encourage you by surrounding you with people\, ministries\, and re
 sources that will support your journey of freedom.” -- The Filmmakers\, 
 The Heart of Man.\n\nMen\, join us at The Road @ Chapel Hills for the "He
 art of Man" on April 28th\, at 6:00 pm. We will have food\, drinks\, a mo
 vie\, and fellowship! You can check out the trailer and other information 
 on the movie here.\n\nRegistration is $10 for dinner and ends April 24. Mo
 vie is for ages 16+.\n\n[ytp_video source="ZZPy_WRywzY"]\n\n
CATEGORIES:Armory
LOCATION:The Road @ Chapel Hills\, 2025 Parliament Drive \, Colorado Spring
 s \, CO\, 80920\, United States
GEO:38.9530171;-104.78802999999999
X-APPLE-STRUCTURED-LOCATION;VALUE=URI;X-ADDRESS=2025 Parliament Drive \, Co
 lorado Springs \, CO\, 80920\, United States;X-APPLE-RADIUS=100;X-TITLE=Th
 e Road @ Chapel Hills:geo:38.9530171,-104.78802999999999
END:VEVENT
BEGIN:VTIMEZONE
TZID:America/Denver
X-LIC-LOCATION:America/Denver
BEGIN:DAYLIGHT
DTSTART:20180311T030000
TZOFFSETFROM:-0700
TZOFFSETTO:-0600
TZNAME:MDT
END:DAYLIGHT
END:VTIMEZONE
END:VCALENDAR