BEGIN:VCALENDAR
VERSION:2.0
PRODID:-//wp-events-plugin.com//7.0.5//EN
TZID:America/Denver
X-WR-TIMEZONE:America/Denver
BEGIN:VEVENT
UID:10@worshipperwarrior.org
DTSTART;TZID=America/Denver:20170909T080000
DTEND;TZID=America/Denver:20170909T100000
DTSTAMP:20170909T133533Z
URL:https://worshipperwarrior.org/events-past/special-armory-mens-breakfas
 t-w-victor-marx/
SUMMARY:Special Armory: Men's Breakfast w/ Victor Marx
DESCRIPTION:
CATEGORIES:Armory
LOCATION:The Road @ Chapel Hills\, 2025 Parliament Drive \, Colorado Spring
 s \, CO\, 80920\, United States
GEO:38.9530171;-104.78802999999999
X-APPLE-STRUCTURED-LOCATION;VALUE=URI;X-ADDRESS=2025 Parliament Drive \, Co
 lorado Springs \, CO\, 80920\, United States;X-APPLE-RADIUS=100;X-TITLE=Th
 e Road @ Chapel Hills:geo:38.9530171,-104.78802999999999
END:VEVENT
BEGIN:VTIMEZONE
TZID:America/Denver
X-LIC-LOCATION:America/Denver
BEGIN:DAYLIGHT
DTSTART:20170312T030000
TZOFFSETFROM:-0700
TZOFFSETTO:-0600
TZNAME:MDT
END:DAYLIGHT
END:VTIMEZONE
END:VCALENDAR