BEGIN:VCALENDAR
VERSION:2.0
PRODID:-//wp-events-plugin.com//7.0.5//EN
TZID:America/Denver
X-WR-TIMEZONE:America/Denver
BEGIN:VEVENT
UID:14@worshipperwarrior.org
DTSTART;TZID=America/Denver;VALUE=DATE:20190713
DTEND;TZID=America/Denver;VALUE=DATE:20190714
DTSTAMP:20190416T030640Z
URL:https://worshipperwarrior.org/events-past/3rd-annual-worshipper-warrio
 r-golf-tournament/
SUMMARY:3rd Annual Worshipper Warrior Golf Tournament
DESCRIPTION:\n\n&nbsp\;\n\nThe 3rd Annual Worshipper Warrior golf tournamen
 t date is set! We will be playing July 13th at Valley Hi in Colorado Sprin
 gs. This is a beautiful course with Pike's Peak as a back drop. We will ha
 ve a shotgun start at 0800 hrs and play 18 holes. Check back for more deta
 ils. There are only 72 slots available (18 four person teams) so REGISTER 
 early to make sure you have a spot!
CATEGORIES:Armory
LOCATION:Valley Hi Golf Course\, 610 Chelton Rd\, Colorado Springs\, CO\, 8
 0910\, United States
X-APPLE-STRUCTURED-LOCATION;VALUE=URI;X-ADDRESS=610 Chelton Rd\, Colorado S
 prings\, CO\, 80910\, United States;X-APPLE-RADIUS=100;X-TITLE=Valley Hi G
 olf Course:geo:0,0
END:VEVENT
BEGIN:VTIMEZONE
TZID:America/Denver
X-LIC-LOCATION:America/Denver
BEGIN:DAYLIGHT
DTSTART:20190310T030000
TZOFFSETFROM:-0700
TZOFFSETTO:-0600
TZNAME:MDT
END:DAYLIGHT
END:VTIMEZONE
END:VCALENDAR