BEGIN:VCALENDAR
VERSION:2.0
PRODID:-//wp-events-plugin.com//7.0.5//EN
TZID:America/Denver
X-WR-TIMEZONE:America/Denver
BEGIN:VEVENT
UID:13@worshipperwarrior.org
DTSTART;TZID=America/Denver;VALUE=DATE:20180714
DTEND;TZID=America/Denver;VALUE=DATE:20180715
DTSTAMP:20180711T161229Z
URL:https://worshipperwarrior.org/events-past/2nd-annual-worshipper-warrio
 r-golf-tournament/
SUMMARY:2nd Annual Worshipper Warrior Golf Tournament
DESCRIPTION:[vc_row type="in_container" full_screen_row_position="middle" s
 cene_position="center" text_color="dark" text_align="left" overlay_strengt
 h="0.3" shape_divider_position="bottom"][vc_column column_padding="no-extr
 a-padding" column_padding_position="all" background_color_opacity="1" back
 ground_hover_color_opacity="1" column_shadow="none" column_border_radius="
 none" width="1/1" tablet_text_alignment="default" phone_text_alignment="de
 fault" column_border_width="none" column_border_style="solid"][vc_column_t
 ext]The 2nd annual Worshipper Warrior golf tournament will be a 4 person s
 cramble (Best Ball) format with a shotgun start at Antler Creek golf cours
 e in Peyton Colorado on Saturday\, July 14th. Prizes will include 1st plac
 e (lowest combined score)\, longest drive\, and closest to the pin. You ca
 n put together a team or register as a single player and we will place you
  on a team for fun and fellowship. Registration is $75.00 and includes a m
 eal and awards ceremony afterwards.\n\nRegistration is now closed\, come o
 ut to fellowship with your favorite golfer.[/vc_column_text][/vc_column][/
 vc_row]
CATEGORIES:Armory
LOCATION:Antler Creek golf course\, 9650 Antler Creek Drive\, Peyton\, Colo
 rado\, 80831\, United States
GEO:38.9726905;-104.59771369999999
X-APPLE-STRUCTURED-LOCATION;VALUE=URI;X-ADDRESS=9650 Antler Creek Drive\, P
 eyton\, Colorado\, 80831\, United States;X-APPLE-RADIUS=100;X-TITLE=Antler
  Creek golf course:geo:38.9726905,-104.59771369999999
END:VEVENT
BEGIN:VTIMEZONE
TZID:America/Denver
X-LIC-LOCATION:America/Denver
BEGIN:DAYLIGHT
DTSTART:20180311T030000
TZOFFSETFROM:-0700
TZOFFSETTO:-0600
TZNAME:MDT
END:DAYLIGHT
END:VTIMEZONE
END:VCALENDAR